NROWS          7597
NCOLS          6252
NBANDS         1
NBITS          8
BYTEORDER      I
LAYOUT         BSQ
ULXMAP         571001.000
ULYMAP         4199543.000
XDIM           1.000
YDIM           1.000
SKIPBYTES      25008
MAP_UNITS METERS
BANDROWBYTES   6252
TOTALROWBYTES  6252
/* DATUM NAD83
/* PROJECTION_NAME UTM
/* PROJECTION_ZONE 10
/* SOURCE_IMAGE_DATE 1993 07 10
/* DOQ_FILE_NAME se.hdr
/* DOQ_QUAD_NAME BRIONES_VALLEY_SE
/* DOQ_STATE CA
