NROWS          7546
NCOLS          6201
NBANDS         1
NBITS          8
BYTEORDER      I
LAYOUT         BSQ
ULXMAP         510577.000
ULYMAP         4206136.000
XDIM           1.000
YDIM           1.000
SKIPBYTES      24804
MAP_UNITS METERS
BANDROWBYTES   6201
TOTALROWBYTES  6201
/* DATUM NAD83
/* PROJECTION_NAME UTM
/* PROJECTION_ZONE 10
/* SOURCE_IMAGE_DATE 1993 8 25
/* DOQ_FILE_NAME nw.hdr
/* DOQ_QUAD_NAME DOUBLE_POINT_NW
/* DOQ_STATE CA
