NROWS          7556
NCOLS          6208
NBANDS         1
NBITS          8
BYTEORDER      I
LAYOUT         BSQ
ULXMAP         516079.000
ULYMAP         4199210.000
XDIM           1.000
YDIM           1.000
SKIPBYTES      24832
MAP_UNITS METERS
BANDROWBYTES   6208
TOTALROWBYTES  6208
/* DATUM NAD83
/* PROJECTION_NAME UTM
/* PROJECTION_ZONE 10
/* SOURCE_IMAGE_DATE 1993 8 25
/* DOQ_FILE_NAME se.hdr
/* DOQ_QUAD_NAME DOUBLE_POINT_SE
/* DOQ_STATE CA
