NROWS          7603
NCOLS          6276
NBANDS         1
NBITS          8
BYTEORDER      I
LAYOUT         BSQ
ULXMAP         582194.000
ULYMAP         4178849.000
XDIM           1.000
YDIM           1.000
SKIPBYTES      25104
MAP_UNITS METERS
BANDROWBYTES   6276
TOTALROWBYTES  6276
/* DATUM NAD83
/* PROJECTION_NAME UTM
/* PROJECTION_ZONE 10
/* SOURCE_IMAGE_DATE 1993 07 10
/* DOQ_FILE_NAME ne.hdr
/* DOQ_QUAD_NAME HAYWARD_NE
/* DOQ_STATE CA
