NROWS          7571
NCOLS          6253
NBANDS         1
NBITS          8
BYTEORDER      I
LAYOUT         BSQ
ULXMAP         554664.000
ULYMAP         4178601.000
XDIM           1.000
YDIM           1.000
SKIPBYTES      25012
MAP_UNITS METERS
BANDROWBYTES   6253
TOTALROWBYTES  6253
/* DATUM NAD83
/* PROJECTION_NAME UTM
/* PROJECTION_ZONE 10
/* SOURCE_IMAGE_DATE 1993 7 10
/* DOQ_FILE_NAME nw.hdr
/* DOQ_QUAD_NAME HUNTERS_POINT_NW
/* DOQ_STATE CA
