NROWS          7575
NCOLS          6258
NBANDS         1
NBITS          8
BYTEORDER      I
LAYOUT         BSQ
ULXMAP         554710.000
ULYMAP         4171666.000
XDIM           1.000
YDIM           1.000
SKIPBYTES      25032
MAP_UNITS METERS
BANDROWBYTES   6258
TOTALROWBYTES  6258
/* DATUM NAD83
/* PROJECTION_NAME UTM
/* PROJECTION_ZONE 10
/* SOURCE_IMAGE_DATE 1993 7 10
/* DOQ_FILE_NAME sw.hdr
/* DOQ_QUAD_NAME HUNTERS_POINT_SW
/* DOQ_STATE CA
