NROWS          7600
NCOLS          6268
NBANDS         1
NBITS          8
BYTEORDER      I
LAYOUT         BSQ
ULXMAP         576623.000
ULYMAP         4185727.000
XDIM           1.000
YDIM           1.000
SKIPBYTES      25072
MAP_UNITS METERS
BANDROWBYTES   6268
TOTALROWBYTES  6268
/* DATUM NAD83
/* PROJECTION_NAME UTM
/* PROJECTION_ZONE 10
/* SOURCE_IMAGE_DATE 1993 07 10
/* DOQ_FILE_NAME sw.hdr
/* DOQ_QUAD_NAME LAS_TRAMPAS_RIDGE_SW
/* DOQ_STATE CA
