NROWS          7580
NCOLS          6260
NBANDS         1
NBITS          8
BYTEORDER      I
LAYOUT         BSQ
ULXMAP         549240.000
ULYMAP         4164694.000
XDIM           1.000
YDIM           1.000
SKIPBYTES      25040
MAP_UNITS METERS
BANDROWBYTES   6260
TOTALROWBYTES  6260
/* DATUM NAD83
/* PROJECTION_NAME UTM
/* PROJECTION_ZONE 10
/* SOURCE_IMAGE_DATE 1993 07 10
/* DOQ_FILE_NAME ne.hdr
/* DOQ_QUAD_NAME MONTARA_MOUNTAIN_NE
/* DOQ_STATE CA
