NROWS          7579
NCOLS          6264
NBANDS         1
NBITS          8
BYTEORDER      I
LAYOUT         BSQ
ULXMAP         549281.000
ULYMAP         4157760.000
XDIM           1.000
YDIM           1.000
SKIPBYTES      25056
MAP_UNITS METERS
BANDROWBYTES   6264
TOTALROWBYTES  6264
/* DATUM NAD83
/* PROJECTION_NAME UTM
/* PROJECTION_ZONE 10
/* SOURCE_IMAGE_DATE 1993 07 10
/* DOQ_FILE_NAME se.hdr
/* DOQ_QUAD_NAME MONTARA_MOUNTAIN_SE
/* DOQ_STATE CA
