NROWS          7573
NCOLS          6258
NBANDS         1
NBITS          8
BYTEORDER      I
LAYOUT         BSQ
ULXMAP         543762.000
ULYMAP         4157724.000
XDIM           1.000
YDIM           1.000
SKIPBYTES      25032
MAP_UNITS METERS
BANDROWBYTES   6258
TOTALROWBYTES  6258
/* DATUM NAD83
/* PROJECTION_NAME UTM
/* PROJECTION_ZONE 10
/* SOURCE_IMAGE_DATE 1993 7 10
/* DOQ_FILE_NAME sw.hdr
/* DOQ_QUAD_NAME MONTARA_MOUNTAIN_SW
/* DOQ_STATE CA
