NROWS          7599
NCOLS          6280
NBANDS         1
NBITS          8
BYTEORDER      I
LAYOUT         BSQ
ULXMAP         576817.000
ULYMAP         4164924.000
XDIM           1.000
YDIM           1.000
SKIPBYTES      25120
MAP_UNITS METERS
BANDROWBYTES   6280
TOTALROWBYTES  6280
/* DATUM NAD83
/* PROJECTION_NAME UTM
/* PROJECTION_ZONE 10
/* SOURCE_IMAGE_DATE 1993 07 10
/* DOQ_FILE_NAME nw.hdr
/* DOQ_QUAD_NAME NEWARK_NW
/* DOQ_STATE CA
