NROWS          7602
NCOLS          6288
NBANDS         1
NBITS          8
BYTEORDER      I
LAYOUT         BSQ
ULXMAP         582402.000
ULYMAP         4158046.000
XDIM           1.000
YDIM           1.000
SKIPBYTES      25152
MAP_UNITS METERS
BANDROWBYTES   6288
TOTALROWBYTES  6288
/* DATUM NAD83
/* PROJECTION_NAME UTM
/* PROJECTION_ZONE 10
/* SOURCE_IMAGE_DATE 1993 07 10
/* DOQ_FILE_NAME se.hdr
/* DOQ_QUAD_NAME NEWARK_SE
/* DOQ_STATE CA
