NROWS          7598
NCOLS          6284
NBANDS         1
NBITS          8
BYTEORDER      I
LAYOUT         BSQ
ULXMAP         576882.000
ULYMAP         4157989.000
XDIM           1.000
YDIM           1.000
SKIPBYTES      25136
MAP_UNITS METERS
BANDROWBYTES   6284
TOTALROWBYTES  6284
/* DATUM NAD83
/* PROJECTION_NAME UTM
/* PROJECTION_ZONE 10
/* SOURCE_IMAGE_DATE 1993 07 10
/* DOQ_FILE_NAME sw.hdr
/* DOQ_QUAD_NAME NEWARK_SW
/* DOQ_STATE CA
