NROWS          7588
NCOLS          6248
NBANDS         1
NBITS          8
BYTEORDER      I
LAYOUT         BSQ
ULXMAP         560067.000
ULYMAP         4192512.000
XDIM           1.000
YDIM           1.000
SKIPBYTES      24992
MAP_UNITS METERS
BANDROWBYTES   6248
TOTALROWBYTES  6248
/* DATUM NAD83
/* PROJECTION_NAME UTM
/* PROJECTION_ZONE 10
/* SOURCE_IMAGE_DATE 1993 07 10
/* DOQ_FILE_NAME ne.hdr
/* DOQ_QUAD_NAME OAKLAND_WEST_NE
/* DOQ_STATE CA
