NROWS          7586
NCOLS          6253
NBANDS         1
NBITS          8
BYTEORDER      I
LAYOUT         BSQ
ULXMAP         560119.000
ULYMAP         4185577.000
XDIM           1.000
YDIM           1.000
SKIPBYTES      25012
MAP_UNITS METERS
BANDROWBYTES   6253
TOTALROWBYTES  6253
/* DATUM NAD83
/* PROJECTION_NAME UTM
/* PROJECTION_ZONE 10
/* SOURCE_IMAGE_DATE 1993 7 10
/* DOQ_FILE_NAME se.hdr
/* DOQ_QUAD_NAME OAKLAND_WEST_SE
/* DOQ_STATE CA
