NROWS          7572
NCOLS          6236
NBANDS         1
NBITS          8
BYTEORDER      I
LAYOUT         BSQ
ULXMAP         538113.000
ULYMAP         4185434.000
XDIM           1.000
YDIM           1.000
SKIPBYTES      24944
MAP_UNITS METERS
BANDROWBYTES   6236
TOTALROWBYTES  6236
/* DATUM NAD83
/* PROJECTION_NAME UTM
/* PROJECTION_ZONE 10
/* SOURCE_IMAGE_DATE 1993 8 25
/* DOQ_FILE_NAME se.hdr
/* DOQ_QUAD_NAME POINT_BONITA_SE
/* DOQ_STATE CA
