NROWS          7595
NCOLS          6276
NBANDS         1
NBITS          8
BYTEORDER      I
LAYOUT         BSQ
ULXMAP         571302.000
ULYMAP         4164870.000
XDIM           1.000
YDIM           1.000
SKIPBYTES      25104
MAP_UNITS METERS
BANDROWBYTES   6276
TOTALROWBYTES  6276
/* DATUM NAD83
/* PROJECTION_NAME UTM
/* PROJECTION_ZONE 10
/* SOURCE_IMAGE_DATE 1993 07 10
/* DOQ_FILE_NAME ne.hdr
/* DOQ_QUAD_NAME REDWOOD_POINT_NE
/* DOQ_STATE CA
