NROWS          7591
NCOLS          6272
NBANDS         1
NBITS          8
BYTEORDER      I
LAYOUT         BSQ
ULXMAP         565786.000
ULYMAP         4164821.000
XDIM           1.000
YDIM           1.000
SKIPBYTES      25088
MAP_UNITS METERS
BANDROWBYTES   6272
TOTALROWBYTES  6272
/* DATUM NAD83
/* PROJECTION_NAME UTM
/* PROJECTION_ZONE 10
/* SOURCE_IMAGE_DATE 1993 07 10
/* DOQ_FILE_NAME nw.hdr
/* DOQ_QUAD_NAME REDWOOD_POINT_NW
/* DOQ_STATE CA
