NROWS          7585
NCOLS          6236
NBANDS         1
NBITS          8
BYTEORDER      I
LAYOUT         BSQ
ULXMAP         554478.000
ULYMAP         4206339.000
XDIM           1.000
YDIM           1.000
SKIPBYTES      24944
MAP_UNITS METERS
BANDROWBYTES   6236
TOTALROWBYTES  6236
/* DATUM NAD83
/* PROJECTION_NAME UTM
/* PROJECTION_ZONE 10
/* SOURCE_IMAGE_DATE 1993 07 10
/* DOQ_FILE_NAME nw.hdr
/* DOQ_QUAD_NAME RICHMOND_NW
/* DOQ_STATE CA
