NROWS          7575
NCOLS          6235
NBANDS         1
NBITS          8
BYTEORDER      I
LAYOUT         BSQ
ULXMAP         543577.000
ULYMAP         4192396.000
XDIM           1.000
YDIM           1.000
SKIPBYTES      24940
MAP_UNITS METERS
BANDROWBYTES   6235
TOTALROWBYTES  6235
/* DATUM NAD83
/* PROJECTION_NAME UTM
/* PROJECTION_ZONE 10
/* SOURCE_IMAGE_DATE 1993 7 10
/* DOQ_FILE_NAME nw.hdr
/* DOQ_QUAD_NAME SAN_FRANCISCO_NORTH_NW
/* DOQ_STATE CA
