NROWS          7578
NCOLS          6244
NBANDS         1
NBITS          8
BYTEORDER      I
LAYOUT         BSQ
ULXMAP         549116.000
ULYMAP         4185496.000
XDIM           1.000
YDIM           1.000
SKIPBYTES      24976
MAP_UNITS METERS
BANDROWBYTES   6244
TOTALROWBYTES  6244
/* DATUM NAD83
/* PROJECTION_NAME UTM
/* PROJECTION_ZONE 10
/* SOURCE_IMAGE_DATE 1993 7 10
/* DOQ_FILE_NAME se.hdr
/* DOQ_QUAD_NAME SAN_FRANCISCO_NORTH_SE
/* DOQ_STATE CA
