NROWS          7574
NCOLS          6239
NBANDS         1
NBITS          8
BYTEORDER      I
LAYOUT         BSQ
ULXMAP         543615.000
ULYMAP         4185461.000
XDIM           1.000
YDIM           1.000
SKIPBYTES      24956
MAP_UNITS METERS
BANDROWBYTES   6239
TOTALROWBYTES  6239
/* DATUM NAD83
/* PROJECTION_NAME UTM
/* PROJECTION_ZONE 10
/* SOURCE_IMAGE_DATE 1993 8 25
/* DOQ_FILE_NAME sw.hdr
/* DOQ_QUAD_NAME SAN_FRANCISCO_NORTH_SW
/* DOQ_STATE CA
