NROWS          7580
NCOLS          6252
NBANDS         1
NBITS          8
BYTEORDER      I
LAYOUT         BSQ
ULXMAP         549199.000
ULYMAP         4171628.000
XDIM           1.000
YDIM           1.000
SKIPBYTES      25008
MAP_UNITS METERS
BANDROWBYTES   6252
TOTALROWBYTES  6252
/* DATUM NAD83
/* PROJECTION_NAME UTM
/* PROJECTION_ZONE 10
/* SOURCE_IMAGE_DATE 1993 07 10
/* DOQ_FILE_NAME se.hdr
/* DOQ_QUAD_NAME SAN_FRANCISCO_SOUTH_SE
/* DOQ_STATE CA
