NROWS          7576
NCOLS          6248
NBANDS         1
NBITS          8
BYTEORDER      I
LAYOUT         BSQ
ULXMAP         543688.000
ULYMAP         4171593.000
XDIM           1.000
YDIM           1.000
SKIPBYTES      24992
MAP_UNITS METERS
BANDROWBYTES   6248
TOTALROWBYTES  6248
/* DATUM NAD83
/* PROJECTION_NAME UTM
/* PROJECTION_ZONE 10
/* SOURCE_IMAGE_DATE 1993 07 10
/* DOQ_FILE_NAME sw.hdr
/* DOQ_QUAD_NAME SAN_FRANCISCO_SOUTH_SW
/* DOQ_STATE CA
