NROWS          7571
NCOLS          6240
NBANDS         1
NBITS          8
BYTEORDER      I
LAYOUT         BSQ
ULXMAP         538145.000
ULYMAP         4178496.000
XDIM           1.000
YDIM           1.000
SKIPBYTES      24960
MAP_UNITS METERS
BANDROWBYTES   6240
TOTALROWBYTES  6240
/* DATUM NAD83
/* PROJECTION_NAME UTM
/* PROJECTION_ZONE 10
/* SOURCE_IMAGE_DATE 1993 7 10
/* DOQ_FILE_NAME ne_OE.hdr
/* DOQ_QUAD_NAME SAN_FRANCISCO_SOUTH_OE_NE
/* DOQ_STATE CA
