NROWS          7596
NCOLS          6268
NBANDS         1
NBITS          8
BYTEORDER      I
LAYOUT         BSQ
ULXMAP         571182.000
ULYMAP         4178739.000
XDIM           1.000
YDIM           1.000
SKIPBYTES      25072
MAP_UNITS METERS
BANDROWBYTES   6268
TOTALROWBYTES  6268
/* DATUM NAD83
/* PROJECTION_NAME UTM
/* PROJECTION_ZONE 10
/* SOURCE_IMAGE_DATE 1993 07 10
/* DOQ_FILE_NAME ne.hdr
/* DOQ_QUAD_NAME SAN_LEANDRO_NE
/* DOQ_STATE CA
