NROWS          7590
NCOLS          6262
NBANDS         1
NBITS          8
BYTEORDER      I
LAYOUT         BSQ
ULXMAP         565676.000
ULYMAP         4178689.000
XDIM           1.000
YDIM           1.000
SKIPBYTES      25048
MAP_UNITS METERS
BANDROWBYTES   6262
TOTALROWBYTES  6262
/* DATUM NAD83
/* PROJECTION_NAME UTM
/* PROJECTION_ZONE 10
/* SOURCE_IMAGE_DATE 1993 7 10
/* DOQ_FILE_NAME nw.hdr
/* DOQ_QUAD_NAME SAN_LEANDRO_NW
/* DOQ_STATE CA
