NROWS          7581
NCOLS          6232
NBANDS         1
NBITS          8
BYTEORDER      I
LAYOUT         BSQ
ULXMAP         548990.000
ULYMAP         4206300.000
XDIM           1.000
YDIM           1.000
SKIPBYTES      24928
MAP_UNITS METERS
BANDROWBYTES   6232
TOTALROWBYTES  6232
/* DATUM NAD83
/* PROJECTION_NAME UTM
/* PROJECTION_ZONE 10
/* SOURCE_IMAGE_DATE 1993 07 10
/* DOQ_FILE_NAME ne.hdr
/* DOQ_QUAD_NAME SAN_QUENTIN_NE
/* DOQ_STATE CA
