NROWS          7577
NCOLS          6228
NBANDS         1
NBITS          8
BYTEORDER      I
LAYOUT         BSQ
ULXMAP         543502.000
ULYMAP         4206265.000
XDIM           1.000
YDIM           1.000
SKIPBYTES      24912
MAP_UNITS METERS
BANDROWBYTES   6228
TOTALROWBYTES  6228
/* DATUM NAD83
/* PROJECTION_NAME UTM
/* PROJECTION_ZONE 10
/* SOURCE_IMAGE_DATE 1993 07 10
/* DOQ_FILE_NAME nw.hdr
/* DOQ_QUAD_NAME SAN_QUENTIN_NW
/* DOQ_STATE CA
