NROWS          7575
NCOLS          6230
NBANDS         1
NBITS          8
BYTEORDER      I
LAYOUT         BSQ
ULXMAP         543540.000
ULYMAP         4199330.000
XDIM           1.000
YDIM           1.000
SKIPBYTES      24920
MAP_UNITS METERS
BANDROWBYTES   6230
TOTALROWBYTES  6230
/* DATUM NAD83
/* PROJECTION_NAME UTM
/* PROJECTION_ZONE 10
/* SOURCE_IMAGE_DATE 1993 7 10
/* DOQ_FILE_NAME sw.hdr
/* DOQ_QUAD_NAME SAN_QUENTIN_SW
/* DOQ_STATE CA
