NROWS          7574
NCOLS          6220
NBANDS         1
NBITS          8
BYTEORDER      I
LAYOUT         BSQ
ULXMAP         538015.000
ULYMAP         4206234.000
XDIM           1.000
YDIM           1.000
SKIPBYTES      24880
MAP_UNITS METERS
BANDROWBYTES   6220
TOTALROWBYTES  6220
/* DATUM NAD83
/* PROJECTION_NAME UTM
/* PROJECTION_ZONE 10
/* SOURCE_IMAGE_DATE 1993 8 25
/* DOQ_FILE_NAME ne.hdr
/* DOQ_QUAD_NAME SAN_RAFAEL_NE
/* DOQ_STATE CA
