NROWS          7570
NCOLS          6216
NBANDS         1
NBITS          8
BYTEORDER      I
LAYOUT         BSQ
ULXMAP         532527.000
ULYMAP         4206206.000
XDIM           1.000
YDIM           1.000
SKIPBYTES      24864
MAP_UNITS METERS
BANDROWBYTES   6216
TOTALROWBYTES  6216
/* DATUM NAD83
/* PROJECTION_NAME UTM
/* PROJECTION_ZONE 10
/* SOURCE_IMAGE_DATE 1993 8 25
/* DOQ_FILE_NAME nw.hdr
/* DOQ_QUAD_NAME SAN_RAFAEL_NW
/* DOQ_STATE CA
