NROWS          7573
NCOLS          6228
NBANDS         1
NBITS          8
BYTEORDER      I
LAYOUT         BSQ
ULXMAP         538047.000
ULYMAP         4199299.000
XDIM           1.000
YDIM           1.000
SKIPBYTES      24912
MAP_UNITS METERS
BANDROWBYTES   6228
TOTALROWBYTES  6228
/* DATUM NAD83
/* PROJECTION_NAME UTM
/* PROJECTION_ZONE 10
/* SOURCE_IMAGE_DATE 1993 8 25
/* DOQ_FILE_NAME se.hdr
/* DOQ_QUAD_NAME SAN_RAFAEL_SE
/* DOQ_STATE CA
