NROWS          7570
NCOLS          6224
NBANDS         1
NBITS          8
BYTEORDER      I
LAYOUT         BSQ
ULXMAP         532555.000
ULYMAP         4199272.000
XDIM           1.000
YDIM           1.000
SKIPBYTES      24896
MAP_UNITS METERS
BANDROWBYTES   6224
TOTALROWBYTES  6224
/* DATUM NAD83
/* PROJECTION_NAME UTM
/* PROJECTION_ZONE 10
/* SOURCE_IMAGE_DATE 1993 8 25
/* DOQ_FILE_NAME sw.hdr
/* DOQ_QUAD_NAME SAN_RAFAEL_SW
/* DOQ_STATE CA
