NROWS          7601
NCOLS          6252
NBANDS         1
NBITS          8
BYTEORDER      I
LAYOUT         BSQ
ULXMAP         576428.000
ULYMAP         4206531.000
XDIM           1.000
YDIM           1.000
SKIPBYTES      25008
MAP_UNITS METERS
BANDROWBYTES   6252
TOTALROWBYTES  6252
/* DATUM NAD83
/* PROJECTION_NAME UTM
/* PROJECTION_ZONE 10
/* SOURCE_IMAGE_DATE 1993 07 10
/* DOQ_FILE_NAME nw.hdr
/* DOQ_QUAD_NAME WALNUT_CREEK_NW
/* DOQ_STATE CA
