NROWS          7604
NCOLS          6264
NBANDS         1
NBITS          8
BYTEORDER      I
LAYOUT         BSQ
ULXMAP         581985.000
ULYMAP         4199653.000
XDIM           1.000
YDIM           1.000
SKIPBYTES      25056
MAP_UNITS METERS
BANDROWBYTES   6264
TOTALROWBYTES  6264
/* DATUM NAD83
/* PROJECTION_NAME UTM
/* PROJECTION_ZONE 10
/* SOURCE_IMAGE_DATE 1993 07 10
/* DOQ_FILE_NAME se.hdr
/* DOQ_QUAD_NAME WALNUT_CREEK_SE
/* DOQ_STATE CA
