NROWS          7600
NCOLS          6256
NBANDS         1
NBITS          8
BYTEORDER      I
LAYOUT         BSQ
ULXMAP         576493.000
ULYMAP         4199596.000
XDIM           1.000
YDIM           1.000
SKIPBYTES      25024
MAP_UNITS METERS
BANDROWBYTES   6256
TOTALROWBYTES  6256
/* DATUM NAD83
/* PROJECTION_NAME UTM
/* PROJECTION_ZONE 10
/* SOURCE_IMAGE_DATE 1993 07 10
/* DOQ_FILE_NAME sw.hdr
/* DOQ_QUAD_NAME WALNUT_CREEK_SW
/* DOQ_STATE CA
