NROWS          7644
NCOLS          6344
NBANDS         1
NBITS          8
BYTEORDER      I
ULXMAP         632191.500
ULYMAP         4151792.500
XDIM           1.000
YDIM           1.000
MAP_UNITS METERS
/* DATUM NAD83
/* PROJECTION_NAME UTM
/* PROJECTION_ZONE 10
/* SOURCE_IMAGE_DATE 1993 6 15
/* DOQ_FILE_NAME nw.hd
/* DOQ_QUAD_NAME MOUNT_BOARDMAN_NW
/* DOQ_STATE CA
