NROWS          7669
NCOLS          6345
NBANDS         1
NBITS          8
BYTEORDER      I
LAYOUT         BSQ
ULXMAP         664508.500
ULYMAP         4194020.500
XDIM           1.000
YDIM           1.000
SKIPBYTES      25380
MAP_UNITS METERS
BANDROWBYTES   6345
TOTALROWBYTES  6345
/* DATUM NAD83
/* PROJECTION_NAME UTM
/* PROJECTION_ZONE 10
/* SOURCE_IMAGE_DATE 1993 5 22
/* DOQ_FILE_NAME nw.hd
/* DOQ_QUAD_NAME AVENA_NW
/* DOQ_STATE CA
