NROWS          7673
NCOLS          6354
NBANDS         1
NBITS          8
BYTEORDER      I
LAYOUT         BSQ
ULXMAP         670150.500
ULYMAP         4187201.500
XDIM           1.000
YDIM           1.000
SKIPBYTES      25416
MAP_UNITS METERS
BANDROWBYTES   6354
TOTALROWBYTES  6354
/* DATUM NAD83
/* PROJECTION_NAME UTM
/* PROJECTION_ZONE 10
/* SOURCE_IMAGE_DATE 1993 5 9
/* DOQ_FILE_NAME se.hd
/* DOQ_QUAD_NAME AVENA_SE
/* DOQ_STATE CA
