NROWS          7669
NCOLS          6349
NBANDS         1
NBITS          8
BYTEORDER      I
LAYOUT         BSQ
ULXMAP         664648.500
ULYMAP         4187085.500
XDIM           1.000
YDIM           1.000
SKIPBYTES      25396
MAP_UNITS METERS
BANDROWBYTES   6349
TOTALROWBYTES  6349
/* DATUM NAD83
/* PROJECTION_NAME UTM
/* PROJECTION_ZONE 10
/* SOURCE_IMAGE_DATE 1993 5 22
/* DOQ_FILE_NAME sw.hd
/* DOQ_QUAD_NAME AVENA_SW
/* DOQ_STATE CA
