NROWS          7641
NCOLS          6331
NBANDS         1
NBITS          8
BYTEORDER      I
LAYOUT         BSQ
ULXMAP         626453.500
ULYMAP         4165572.500
XDIM           1.000
YDIM           1.000
SKIPBYTES      25324
MAP_UNITS METERS
BANDROWBYTES   6331
TOTALROWBYTES  6331
/* DATUM NAD83
/* PROJECTION_NAME UTM
/* PROJECTION_ZONE 10
/* SOURCE_IMAGE_DATE 1993 6 15
/* DOQ_FILE_NAME ne.hd
/* DOQ_QUAD_NAME CEDAR_MOUNTAIN_NE
/* DOQ_STATE CA
