NROWS          7637
NCOLS          6326
NBANDS         1
NBITS          8
BYTEORDER      I
LAYOUT         BSQ
ULXMAP         620938.500
ULYMAP         4165485.500
XDIM           1.000
YDIM           1.000
SKIPBYTES      25304
MAP_UNITS METERS
BANDROWBYTES   6326
TOTALROWBYTES  6326
/* DATUM NAD83
/* PROJECTION_NAME UTM
/* PROJECTION_ZONE 10
/* SOURCE_IMAGE_DATE 1993 6 15
/* DOQ_FILE_NAME nw.hd
/* DOQ_QUAD_NAME CEDAR_MOUNTAIN_NW
/* DOQ_STATE CA
