NROWS          7642
NCOLS          6317
NBANDS         1
NBITS          8
BYTEORDER      I
LAYOUT         BSQ
ULXMAP         626134.500
ULYMAP         4186376.500
XDIM           1.000
YDIM           1.000
SKIPBYTES      25268
MAP_UNITS METERS
BANDROWBYTES   6317
TOTALROWBYTES  6317
/* DATUM NAD83
/* PROJECTION_NAME UTM
/* PROJECTION_ZONE 10
/* SOURCE_IMAGE_DATE 1993 6 15
/* DOQ_FILE_NAME se.hd
/* DOQ_QUAD_NAME CLIFTON_COURT_FOREBAY_SE
/* DOQ_STATE CA
