NROWS          7648
NCOLS          6340
NBANDS         1
NBITS          8
BYTEORDER      I
LAYOUT         BSQ
ULXMAP         637485.500
ULYMAP         4165755.500
XDIM           1.000
YDIM           1.000
SKIPBYTES      25360
MAP_UNITS METERS
BANDROWBYTES   6340
TOTALROWBYTES  6340
/* DATUM NAD83
/* PROJECTION_NAME UTM
/* PROJECTION_ZONE 10
/* SOURCE_IMAGE_DATE 1993 7 11
/* DOQ_FILE_NAME ne.hd
/* DOQ_QUAD_NAME LONE_TREE_CREEK_NE
/* DOQ_STATE CA
