NROWS          7645
NCOLS          6335
NBANDS         1
NBITS          8
BYTEORDER      I
LAYOUT         BSQ
ULXMAP         631969.500
ULYMAP         4165662.500
XDIM           1.000
YDIM           1.000
SKIPBYTES      25340
MAP_UNITS METERS
BANDROWBYTES   6335
TOTALROWBYTES  6335
/* DATUM NAD83
/* PROJECTION_NAME UTM
/* PROJECTION_ZONE 10
/* SOURCE_IMAGE_DATE 1993 6 15
/* DOQ_FILE_NAME nw.hd
/* DOQ_QUAD_NAME LONE_TREE_CREEK_NW
/* DOQ_STATE CA
