NROWS          7638
NCOLS          6317
NBANDS         1
NBITS          8
BYTEORDER      I
LAYOUT         BSQ
ULXMAP         620734.500
ULYMAP         4179355.500
XDIM           1.000
YDIM           1.000
SKIPBYTES      25268
MAP_UNITS METERS
BANDROWBYTES   6317
TOTALROWBYTES  6317
/* DATUM NAD83
/* PROJECTION_NAME UTM
/* PROJECTION_ZONE 10
/* SOURCE_IMAGE_DATE 1993 6 15
/* DOQ_FILE_NAME nw.hd
/* DOQ_QUAD_NAME MIDWAY_NW
/* DOQ_STATE CA
