NROWS          7641
NCOLS          6326
NBANDS         1
NBITS          8
BYTEORDER      I
LAYOUT         BSQ
ULXMAP         626347.500
ULYMAP         4172506.500
XDIM           1.000
YDIM           1.000
SKIPBYTES      25304
MAP_UNITS METERS
BANDROWBYTES   6326
TOTALROWBYTES  6326
/* DATUM NAD83
/* PROJECTION_NAME UTM
/* PROJECTION_ZONE 10
/* SOURCE_IMAGE_DATE 1993 6 15
/* DOQ_FILE_NAME se.hd
/* DOQ_QUAD_NAME MIDWAY_SE
/* DOQ_STATE CA
