NROWS          7637
NCOLS          6322
NBANDS         1
NBITS          8
BYTEORDER      I
LAYOUT         BSQ
ULXMAP         620836.500
ULYMAP         4172420.500
XDIM           1.000
YDIM           1.000
SKIPBYTES      25288
MAP_UNITS METERS
BANDROWBYTES   6322
TOTALROWBYTES  6322
/* DATUM NAD83
/* PROJECTION_NAME UTM
/* PROJECTION_ZONE 10
/* SOURCE_IMAGE_DATE 1993 6 15
/* DOQ_FILE_NAME sw.hd
/* DOQ_QUAD_NAME MIDWAY_SW
/* DOQ_STATE CA
