NROWS          7673
NCOLS          6341
NBANDS         1
NBITS          8
BYTEORDER      I
LAYOUT         BSQ
ULXMAP         669717.500
ULYMAP         4208007.500
XDIM           1.000
YDIM           1.000
SKIPBYTES      25364
MAP_UNITS METERS
BANDROWBYTES   6341
TOTALROWBYTES  6341
/* DATUM NAD83
/* PROJECTION_NAME UTM
/* PROJECTION_ZONE 10
/* SOURCE_IMAGE_DATE 1993 5 9
/* DOQ_FILE_NAME ne.hd
/* DOQ_QUAD_NAME PETERS_NE
/* DOQ_STATE CA
